BEGIN:VCALENDAR
VERSION:2.0
PRODID:-//Stiftung Waldwelten - ECPv6.15.20//NONSGML v1.0//EN
CALSCALE:GREGORIAN
METHOD:PUBLISH
X-WR-CALNAME:Stiftung Waldwelten
X-ORIGINAL-URL:https://waldwelten.de
X-WR-CALDESC:Veranstaltungen für Stiftung Waldwelten
REFRESH-INTERVAL;VALUE=DURATION:PT1H
X-Robots-Tag:noindex
X-PUBLISHED-TTL:PT1H
BEGIN:VTIMEZONE
TZID:Europe/Berlin
BEGIN:DAYLIGHT
TZOFFSETFROM:+0100
TZOFFSETTO:+0200
TZNAME:CEST
DTSTART:20220327T010000
END:DAYLIGHT
BEGIN:STANDARD
TZOFFSETFROM:+0200
TZOFFSETTO:+0100
TZNAME:CET
DTSTART:20221030T010000
END:STANDARD
BEGIN:DAYLIGHT
TZOFFSETFROM:+0100
TZOFFSETTO:+0200
TZNAME:CEST
DTSTART:20230326T010000
END:DAYLIGHT
BEGIN:STANDARD
TZOFFSETFROM:+0200
TZOFFSETTO:+0100
TZNAME:CET
DTSTART:20231029T010000
END:STANDARD
BEGIN:DAYLIGHT
TZOFFSETFROM:+0100
TZOFFSETTO:+0200
TZNAME:CEST
DTSTART:20240331T010000
END:DAYLIGHT
BEGIN:STANDARD
TZOFFSETFROM:+0200
TZOFFSETTO:+0100
TZNAME:CET
DTSTART:20241027T010000
END:STANDARD
END:VTIMEZONE
BEGIN:VEVENT
DTSTART;TZID=Europe/Berlin:20231216T140000
DTEND;TZID=Europe/Berlin:20231226T200000
DTSTAMP:20260426T045053
CREATED:20230203T105301Z
LAST-MODIFIED:20231213T134502Z
UID:1840-1702735200-1703620800@waldwelten.de
SUMMARY:WaldWeihnacht 2023
DESCRIPTION:Beschauliche Weihnachtsfeier der besonderen Art. \nMagische Weihnachtsfeier für die ganze Familie – Eintritt 3€\, Kinder frei\n16./17. Dezember 2023 – 14 Bis 20 Uhr \nDie Besucher können durch den stimmungsvoll beleuchteten Garten flanieren und an verschiedenen Stellen künstlerische Darbietungen vom Kinderzirkus „Hand in Hand“\, Janana Klemm\, Sascha Lej & Friends\, Amelie Arkona und vielen ehrenamtlichen Darstellern erleben. \nMit Speis‘\, Trank\, Feuerzauber & magischen Momenten für die ganze Familie. \n  \nSAMSTAG\, 16. DEZEMBER 2023 \n15.00 Harfenkonzert (Tipi)\n15:30 Geschichtenerzählerin (Tipi)\nKonzert mit Sascha Lej & Friends (Festwiese)\n16.00 AkrobatikShow (Marktplatz)\nMagische WaldWeihnachts-Aufführung (Festwiese)\n16.30 Harfenkonzert (Tipi)\n17.00 Mystische Feuershow (Festwiese)\n17.30 Konzert mit Sascha Lej & Friends (Festwiese)\n18.00 Magische WaldWeihnachts-Aufführung (Festwiese)\n18.30 AkrobatikShow (Marktplatz)\nMystische Feuershow (Festwiese)\n19.00 WaldWeihnachtslieder mit Sascha Lej (Festwiese)\n20.00 Ausklingen \n  \nSONNTAG\, 17. DEZEMBER 2023 \n15.00 Geschichtenerzählerin (Tipi)\n15:30 Konzert mit Sascha Lej & Friends (Festwiese)\n16.00 AkrobatikShow (Marktplatz)\nMagische WaldWeihnachts-Aufführung (Festwiese)\n16.30 Geschichtenerzählerin (Tipi)\n17.00 Mystische Feuershow (Festwiese)\n17.30 Konzert mit Sascha Lej & Friends (Festwiese)\n18.00 Magische WaldWeihnachts-Aufführung (Festwiese)\n18.30 AkrobatikShow (Marktplatz)\nMystische Feuershow (Festwiese)\n19.00 WaldWeihnachtslieder mit Sascha Lej (Festwiese)\n20.00 Ausklingen \nANREISE: \nBitte kommen Sie nach Möglichkeit mit dem Fahrrad oder zu Fuß. Bitte nutzen Sie vorzugsweise die PKW-Stellplätze auf dem Waldcampus der HNEE. \nHINWEISE: \nBitte beachten Sie: Aufgrund begrenzter Platzkapazität wird bei Überfüllung der Einlass aus Sicherheitsgründen gestoppt. \nDie Stiftung WaldWelten hält die Veranstaltung bzw. Teile der Veranstaltung in Bildaufnahmen fest. Mit Betreten des Veranstaltungsortes willigen Sie ein\, dass die Stiftung WaldWelten die Aufnahmen im Rahmen ihrer Öffentlichkeitsarbeit einsetzen kann. \n  \nZusätzlich zur WaldWeihnacht: \nLichterspaziergang durch den Forstbotanischen Garten – Eintritt frei\n18. bis 26. Dezember 2023 – 16 bis 19 Uhr \nIn dieser Zeit ist der Forstbotanische Garten für einen Lichterspaziergang geöffnet. Heißgetränke werden am Wurzelkeller bis zum 23.12. angeboten. \n 
URL:https://waldwelten.de/event/waldweihnacht-2023/
LOCATION:Forstbotanischer Garten Eberswalde\, Schwappachweg 14a\, Eberswalde\, 16225
CATEGORIES:KulturWelt
ATTACH;FMTTYPE=image/jpeg:https://waldwelten.de/wp-content/uploads/2023/02/Eduard_Fischer_www.helixmedia.de_DSC01858-edit_Dezember2022-scaled.jpg
END:VEVENT
BEGIN:VEVENT
DTSTART;TZID=Europe/Berlin:20231218T160000
DTEND;TZID=Europe/Berlin:20231226T190000
DTSTAMP:20260426T045053
CREATED:20231206T121718Z
LAST-MODIFIED:20231213T134549Z
UID:2236-1702915200-1703617200@waldwelten.de
SUMMARY:Lichterspaziergang durch den Forstbotanischen Garten – Eintritt frei
DESCRIPTION:In dieser Zeit ist der Forstbotanische Garten für einen Lichterspaziergang geöffnet. Heißgetränke werden unter der Woche am Wurzelkeller bis zum 23.12. angeboten.
URL:https://waldwelten.de/event/lichterspaziergang-durch-den-forstbotanischen-garten-eintritt-frei/
LOCATION:Forstbotanischer Garten Eberswalde\, Schwappachweg 14a\, Eberswalde\, 16225
ATTACH;FMTTYPE=image/jpeg:https://waldwelten.de/wp-content/uploads/2023/12/DSC_1021-scaled.jpg
ORGANIZER;CN="Stiftung WaldWelten":MAILTO:info@waldwelten.de
END:VEVENT
END:VCALENDAR