BEGIN:VCALENDAR
VERSION:2.0
PRODID:-//Stiftung Waldwelten - ECPv6.15.20//NONSGML v1.0//EN
CALSCALE:GREGORIAN
METHOD:PUBLISH
X-WR-CALNAME:Stiftung Waldwelten
X-ORIGINAL-URL:https://waldwelten.de
X-WR-CALDESC:Veranstaltungen für Stiftung Waldwelten
REFRESH-INTERVAL;VALUE=DURATION:PT1H
X-Robots-Tag:noindex
X-PUBLISHED-TTL:PT1H
BEGIN:VTIMEZONE
TZID:Europe/Berlin
BEGIN:DAYLIGHT
TZOFFSETFROM:+0100
TZOFFSETTO:+0200
TZNAME:CEST
DTSTART:20230326T010000
END:DAYLIGHT
BEGIN:STANDARD
TZOFFSETFROM:+0200
TZOFFSETTO:+0100
TZNAME:CET
DTSTART:20231029T010000
END:STANDARD
BEGIN:DAYLIGHT
TZOFFSETFROM:+0100
TZOFFSETTO:+0200
TZNAME:CEST
DTSTART:20240331T010000
END:DAYLIGHT
BEGIN:STANDARD
TZOFFSETFROM:+0200
TZOFFSETTO:+0100
TZNAME:CET
DTSTART:20241027T010000
END:STANDARD
BEGIN:DAYLIGHT
TZOFFSETFROM:+0100
TZOFFSETTO:+0200
TZNAME:CEST
DTSTART:20250330T010000
END:DAYLIGHT
BEGIN:STANDARD
TZOFFSETFROM:+0200
TZOFFSETTO:+0100
TZNAME:CET
DTSTART:20251026T010000
END:STANDARD
END:VTIMEZONE
BEGIN:VEVENT
DTSTART;TZID=Europe/Berlin:20240501T150000
DTEND;TZID=Europe/Berlin:20240505T150000
DTSTAMP:20260425T193728
CREATED:20240312T150854Z
LAST-MODIFIED:20240327T083203Z
UID:2307-1714575600-1714921200@waldwelten.de
SUMMARY:Frühlings-Frauencamp
DESCRIPTION:Die sprießende Kraft in unsere Körper fließen lassen \n  \nInmitten wunderschöner Natur kommen wir im Kreis der Frauen zusammen. Der Mai beginnt und in der Natur erwacht die sprießende Lebenskraft in Fülle. Wir lassen den Frühling in unsere Körper fliessen und  feiern das neu erwachende Leben! \nWir verbinden uns mit den Elementen\, den uns umgebenden kleinen und großen Lebewesen und tauchen mit allen Sinnen in die Wunder der Natur ein. In einen Raum des sich gegenseitigen Nährens\, des Spürens und des Entfaltens unserer urweiblichen Fähigkeit in Verbindung zu leben mit Pflanzen\, Tieren und der Erde. \nFür 5 Tage leben wir in einem gemeinschaftlichen Kreis in\, mit und aus der Natur. Wir lernen ein Feuer zu machen nach alter Art und kochen auch am Feuer. Wir sammeln essbare Wildpflanzen\, schnitzen\, flechten\, versammeln uns im großen  Gemeinschaftszelt\, schlafen in eigenen Zelten\, baden im See und gestalten unser Alltagsleben mit dem\, was die Erde uns schenkt. \nÜber Bewegung und Tanz\, über Berührung und Kontakt wecken wir die Lebendigkeit\, Kraft und Sinnlichkeit in unseren Körpern. Und im Miteinander öffnen wir den Raum für Geschichten\, Austausch\, Spiel und Singen und  entzünden ein zeremonielles Feuer für die Kraft und das Wissen in uns Frauen. \nIn diesem Jahr wollen wir als besonderes Projekt zusammen Körbe flechten. Und während wir zusammen unsere Hände bewegen\, die Weidenzweige verflechten verweben wir uns gleichzeitig als Frauen zu einem stärkenden Netz. \nHerzlich Willkommen liebe Frauen\, macht euch auf den Weg und webt mit uns zusammen! \n  \nLeitung: Anna Rabold & Alexandra Jedrych \n  \nFür: Erwachsene Frauen und weibliche Jugendliche in Begleitung ab ca. 14 Jahren \nKosten: \n\nRegulärer Preis: 444 €\, Inklusive Campkosten (Übernachtung im eigenen Zelt) und Vollverpflegung mit biologischer und nach Möglichkeit regionaler Kost\nUnterstützerpreis: 555€ (Falls ihr in der Lage seid\, andere Frauen unterstützen zu können)\nErmäßigter Preis: 333€ (Falls ihr Unterstützung benötigt)\n\n\n  \n  \n  \n 
URL:https://waldwelten.de/event/fruehlings-frauencamp/
LOCATION:Wildnisschule Waldschrat\, Max Schmeling Str. 10\, Müncheberg / OT Hoppegarten\, Brandenburg\, 15374
ORGANIZER;CN="%E2%80%9EDie Wilde M%C3%B6hre%E2%80%9C %E2%80%93 Wildkr%C3%A4uter- und Wildnisschule und Wildnisschule Waldschrat":MAILTO:post[ätt]wildnisschule-waldschrat.de
END:VEVENT
END:VCALENDAR