BEGIN:VCALENDAR
VERSION:2.0
PRODID:-//Stiftung Waldwelten - ECPv6.15.20//NONSGML v1.0//EN
CALSCALE:GREGORIAN
METHOD:PUBLISH
X-ORIGINAL-URL:https://waldwelten.de
X-WR-CALDESC:Veranstaltungen für Stiftung Waldwelten
REFRESH-INTERVAL;VALUE=DURATION:PT1H
X-Robots-Tag:noindex
X-PUBLISHED-TTL:PT1H
BEGIN:VTIMEZONE
TZID:Europe/Berlin
BEGIN:DAYLIGHT
TZOFFSETFROM:+0100
TZOFFSETTO:+0200
TZNAME:CEST
DTSTART:20230326T010000
END:DAYLIGHT
BEGIN:STANDARD
TZOFFSETFROM:+0200
TZOFFSETTO:+0100
TZNAME:CET
DTSTART:20231029T010000
END:STANDARD
BEGIN:DAYLIGHT
TZOFFSETFROM:+0100
TZOFFSETTO:+0200
TZNAME:CEST
DTSTART:20240331T010000
END:DAYLIGHT
BEGIN:STANDARD
TZOFFSETFROM:+0200
TZOFFSETTO:+0100
TZNAME:CET
DTSTART:20241027T010000
END:STANDARD
BEGIN:DAYLIGHT
TZOFFSETFROM:+0100
TZOFFSETTO:+0200
TZNAME:CEST
DTSTART:20250330T010000
END:DAYLIGHT
BEGIN:STANDARD
TZOFFSETFROM:+0200
TZOFFSETTO:+0100
TZNAME:CET
DTSTART:20251026T010000
END:STANDARD
END:VTIMEZONE
BEGIN:VEVENT
DTSTART;TZID=Europe/Berlin:20240512T100000
DTEND;TZID=Europe/Berlin:20240512T170000
DTSTAMP:20260425T225624
CREATED:20240312T155115Z
LAST-MODIFIED:20240508T084834Z
UID:2329-1715508000-1715533200@waldwelten.de
SUMMARY:Tag der Sortenvielfalt 2024
DESCRIPTION:Am 12. Mai 2024 freuen wir uns\, Sie von 10 –17 Uhr rund um das Verwaltungsgebäude des Forstbotanischen Gartens Eberswalde begrüßen zu können. \nHier präsentieren Händler\, Gärtner und Hobbygärtner sowie Vereine ihre Pflanzen- und Sortenvielfalt\, umrahmt von herrlich blühenden Obstbäumen des Gewächshausgeländes. \nLassen Sie sich von einer bunten Vielfalt alter und neuer Nutzpflanzen sowie samenfesten Saatgutes begeistern. Eine Pflanzen- und Saatguttauschbörse lädt zum Teilnehmen und Ausprobieren ein. Wer seltene Gemüsesorten und heimische Krautpflanzen für den Garten sucht oder ein besonderes Geschenk zum Muttertag braucht\, ist hier genau richtig. Nach dem Motto „Erhalte die Vielfalt“ kann man an diesem Tag unter anderem Pflanzenraritäten sowie wilde und heilende Kräuter erwerben. Neben der Beratung von Experten an den einzelnen Marktständen gibt es auch Workshops zu verschiedenen Themen wie z.B. Baumschnitt\, Veredelung\, Walnüsse. \nUmrahmt wird der Tag der Sortenvielfalt von einem bunten Kinderprogramm mit Spielangeboten\, einer Aufführung des Kinderzirkus und einer Strohhüpfburg. Händler aus der Region bieten kulinarische Spezialitäten an. \nAuf einen Blick: \n\nPflanzenmarkt\, bunte Vielfalt alter und neuer Nutzpflanzen und samenfestes Saatgut\nPflanzenraritäten\, Kräuter\, Färberpflanzen\nPflanzen- und Saatguttauschbörse\nKulinarisch regionale Spezialitäten\nBuntes Kinderprogramm mit Strohhüpfburg und Slackline\nWorkshops zu den Themen Baumschnitt und – veredelung sowie Walnüsse\nAufführung des Kinderzirkus „Hand in Hand“ unter Leitung von Janana Klemm\nMusikalisches Rahmenprogramm gestaltet durch die Sängerin Vera Thaxton sowie die Musiker Oliver Brauner\, Eugen Fraenger und Volkmar Gutsche\n\n  \nDer „Tag der Sortenvielfalt“ wird veranstaltet vom Forstbotanischen Garten der HNE Eberswalde und der Stiftung WaldWelten in Kooperation mit dem VERN e. V. aus Greiffenberg\, der Stadt Eberswalde und vielen weiteren Mitwirkenden. \n  \nFlyer 15. Tag der Sortenvielfalt (PDF)
URL:https://waldwelten.de/event/tag-der-sortenvielfalt-2024/
LOCATION:Verwaltungsgelände des Forstbotanischen Gartens\, Am Zainhammer 5\, Eberswalde\, Brandenburg\, 16225
CATEGORIES:KulturWelt
ATTACH;FMTTYPE=image/jpeg:https://waldwelten.de/wp-content/uploads/2023/02/TdS.jpg
END:VEVENT
END:VCALENDAR