BEGIN:VCALENDAR
VERSION:2.0
PRODID:-//Stiftung Waldwelten - ECPv6.15.20//NONSGML v1.0//EN
CALSCALE:GREGORIAN
METHOD:PUBLISH
X-ORIGINAL-URL:https://waldwelten.de
X-WR-CALDESC:Veranstaltungen für Stiftung Waldwelten
REFRESH-INTERVAL;VALUE=DURATION:PT1H
X-Robots-Tag:noindex
X-PUBLISHED-TTL:PT1H
BEGIN:VTIMEZONE
TZID:Europe/Berlin
BEGIN:DAYLIGHT
TZOFFSETFROM:+0100
TZOFFSETTO:+0200
TZNAME:CEST
DTSTART:20230326T010000
END:DAYLIGHT
BEGIN:STANDARD
TZOFFSETFROM:+0200
TZOFFSETTO:+0100
TZNAME:CET
DTSTART:20231029T010000
END:STANDARD
BEGIN:DAYLIGHT
TZOFFSETFROM:+0100
TZOFFSETTO:+0200
TZNAME:CEST
DTSTART:20240331T010000
END:DAYLIGHT
BEGIN:STANDARD
TZOFFSETFROM:+0200
TZOFFSETTO:+0100
TZNAME:CET
DTSTART:20241027T010000
END:STANDARD
BEGIN:DAYLIGHT
TZOFFSETFROM:+0100
TZOFFSETTO:+0200
TZNAME:CEST
DTSTART:20250330T010000
END:DAYLIGHT
BEGIN:STANDARD
TZOFFSETFROM:+0200
TZOFFSETTO:+0100
TZNAME:CET
DTSTART:20251026T010000
END:STANDARD
END:VTIMEZONE
BEGIN:VEVENT
DTSTART;TZID=Europe/Berlin:20240526T100000
DTEND;TZID=Europe/Berlin:20240526T170000
DTSTAMP:20260425T194121
CREATED:20240312T152005Z
LAST-MODIFIED:20240327T082911Z
UID:2319-1716717600-1716742800@waldwelten.de
SUMMARY:Wild unterwegs mit Eseln
DESCRIPTION:Wir wandern mit Packeseln und futtern uns in Eselmanier durch die Welt der Wildpflanzen \n  \nMit einer Gruppe Esel wandern wir durch den Nationalpark Unteres Odertal\,  genießen wunderschöne wilde Landschaften und tauchen tiefer ein in ein natürliches Leben. Unser Fokus sind die essbaren Wildpflanzen.\nUnd tatsächlich sind an diesem Tag die Esel unsere humorvollen Lehrer! Sie begleiten uns dabei\, unsere natürlichen Instinkte zu aktivieren und mit hellwachen Wahrnehmungssinnen  unterwegs zu sein.  Von ihnen gucken wir uns ab\, wie man Pflanzen beschnuppert und wie wir unsere Körperwahrnehmungen nutzen können\, um Essbares ausfindig zu machen. In Eselmanier futtern wir uns durch die Landschaft\, kosten mal hier und mal da und entdecken dabei faszinierende neue Geschmäcker. Aus all diesen Köstlichkeiten kreieren wir ein leckeres Picknick. \n  \n  \n  \n  \n 
URL:https://waldwelten.de/event/wild-unterwegs-mit-eseln/
LOCATION:Packeseltouren Brandenburg\, Ernst-Thälmannstr.10\, Lunow-Stolzenhagen\, Brandenburg\, 16248
END:VEVENT
END:VCALENDAR