BEGIN:VCALENDAR
VERSION:2.0
PRODID:-//Stiftung Waldwelten - ECPv6.15.20//NONSGML v1.0//EN
CALSCALE:GREGORIAN
METHOD:PUBLISH
X-ORIGINAL-URL:https://waldwelten.de
X-WR-CALDESC:Veranstaltungen für Stiftung Waldwelten
REFRESH-INTERVAL;VALUE=DURATION:PT1H
X-Robots-Tag:noindex
X-PUBLISHED-TTL:PT1H
BEGIN:VTIMEZONE
TZID:Europe/Berlin
BEGIN:DAYLIGHT
TZOFFSETFROM:+0100
TZOFFSETTO:+0200
TZNAME:CEST
DTSTART:20230326T010000
END:DAYLIGHT
BEGIN:STANDARD
TZOFFSETFROM:+0200
TZOFFSETTO:+0100
TZNAME:CET
DTSTART:20231029T010000
END:STANDARD
BEGIN:DAYLIGHT
TZOFFSETFROM:+0100
TZOFFSETTO:+0200
TZNAME:CEST
DTSTART:20240331T010000
END:DAYLIGHT
BEGIN:STANDARD
TZOFFSETFROM:+0200
TZOFFSETTO:+0100
TZNAME:CET
DTSTART:20241027T010000
END:STANDARD
BEGIN:DAYLIGHT
TZOFFSETFROM:+0100
TZOFFSETTO:+0200
TZNAME:CEST
DTSTART:20250330T010000
END:DAYLIGHT
BEGIN:STANDARD
TZOFFSETFROM:+0200
TZOFFSETTO:+0100
TZNAME:CET
DTSTART:20251026T010000
END:STANDARD
END:VTIMEZONE
BEGIN:VEVENT
DTSTART;TZID=Europe/Berlin:20240728T100000
DTEND;TZID=Europe/Berlin:20240728T130000
DTSTAMP:20260425T161423
CREATED:20240319T155329Z
LAST-MODIFIED:20240625T092833Z
UID:2447-1722160800-1722171600@waldwelten.de
SUMMARY:Theaterworkshop zum Welttag des Naturschutzes
DESCRIPTION:Theaterworkshop für Familien\n\nWir tauchen gemeinsam in ein lebendiges Naturtheaterstück und verwandeln uns dabei in Nullkommanix in Tiere und Pflanzen\, die plötzlich sprechen können. Gemeinsam erleben wir ein Abenteuer und landen dabei am Ende sogar auf einer selbst gebastelten Naturbühne!  Mit viel Spiel und Spaß findet jeder Teilnehmende seine Rolle in der Geschichte und wir führen das Stück vor dem kleinen Elternpublikum vor!\nGerne können auch eigene lieb gewonnene Requisiten mit gebracht werden.\n\nHinweis: die Kinder müssen nichts auswendig lernen\, das Mitmachtheater integriert auch schüchterne Kinder; geeignet für Kinder zwischen 8 und 14 Jahren\n\n\nBitte um Anmeldung unter: Forstbotanischer.Garten@hnee.de oder zwischen 9-13:30 unter 03334/657 476\n\n  \n  \nFoto: Anastasia Storck-Reschke
URL:https://waldwelten.de/event/theaterworkshop-zum-welttag-des-naturschutzes/
LOCATION:Forstbotanischer Garten am Eingangstor\, Schwappachweg 14a\, Eberswalde\, 16225
CATEGORIES:ErlebnisWelt
ATTACH;FMTTYPE=image/jpeg:https://waldwelten.de/wp-content/uploads/2024/03/LangeNachtderFamilie_Foto_AnastasiaReschke.jpg
END:VEVENT
END:VCALENDAR