BEGIN:VCALENDAR
VERSION:2.0
PRODID:-//Stiftung Waldwelten - ECPv6.15.20//NONSGML v1.0//EN
CALSCALE:GREGORIAN
METHOD:PUBLISH
X-ORIGINAL-URL:https://waldwelten.de
X-WR-CALDESC:Veranstaltungen für Stiftung Waldwelten
REFRESH-INTERVAL;VALUE=DURATION:PT1H
X-Robots-Tag:noindex
X-PUBLISHED-TTL:PT1H
BEGIN:VTIMEZONE
TZID:Europe/Berlin
BEGIN:DAYLIGHT
TZOFFSETFROM:+0100
TZOFFSETTO:+0200
TZNAME:CEST
DTSTART:20240331T010000
END:DAYLIGHT
BEGIN:STANDARD
TZOFFSETFROM:+0200
TZOFFSETTO:+0100
TZNAME:CET
DTSTART:20241027T010000
END:STANDARD
BEGIN:DAYLIGHT
TZOFFSETFROM:+0100
TZOFFSETTO:+0200
TZNAME:CEST
DTSTART:20250330T010000
END:DAYLIGHT
BEGIN:STANDARD
TZOFFSETFROM:+0200
TZOFFSETTO:+0100
TZNAME:CET
DTSTART:20251026T010000
END:STANDARD
BEGIN:DAYLIGHT
TZOFFSETFROM:+0100
TZOFFSETTO:+0200
TZNAME:CEST
DTSTART:20260329T010000
END:DAYLIGHT
BEGIN:STANDARD
TZOFFSETFROM:+0200
TZOFFSETTO:+0100
TZNAME:CET
DTSTART:20261025T010000
END:STANDARD
END:VTIMEZONE
BEGIN:VEVENT
DTSTART;TZID=Europe/Berlin:20250417T140000
DTEND;TZID=Europe/Berlin:20250417T170000
DTSTAMP:20260421T231502
CREATED:20250217T104721Z
LAST-MODIFIED:20250407T130034Z
UID:3633-1744898400-1744909200@waldwelten.de
SUMMARY:Wildkräuterworkshop I
DESCRIPTION:Wir werden im erwachenden Frühling wachsende essbare und anderweitig verwendbare Wildkräuter kennenlernen\, sammeln und verarbeiten. Nach dem Zupfen\, Riechen und Sortieren erstellen wir in Kleingruppen unser kleines Frühjahrstasting mit vier eigenen Produkten aus gesundem Grün. Herzlich willkommen sind alle\, die etwas Experimentierfreude mitbringen und sich auf Vitaminbomben freuen – auch ohne botanische Vorkenntnisse geeignet! \nZubereitung von Kräutersalz\, Pesto\, Kräuterbutter\, und Kräuteröl mit anschließender Verkostung auf frischem Baguette. \nBitte eigenes Sammelkörbchen\, Messer und kleines Marmeladenglas mitbringen! \nLeitung: Nadja Erdmann\, Wildnispädagogin\, Rangerin\, Geschichtenerzählerin. \n  \nWANN: 17. und 21. April 2025 jeweils von 14 – 17:00 \nWO: Haupteingang am Roten Tor des Forstbotanischen Gartens [Schwappachweg 14a] \nWAS: Wildkräutersammlung mit Zubereitung \nAnmeldung erforderlich (ca.15-20 Teilnehmer): : forstbotanischer.garten@hnee.de oder zwischen 9-13:30 unter 03334/657 476 \nUnkostenbeitrag: 10€ pro Person
URL:https://waldwelten.de/event/wildkraeuterworkshop-i/
LOCATION:Forstbotanischer Garten am Eingangstor\, Schwappachweg 14a\, Eberswalde\, 16225
ATTACH;FMTTYPE=image/jpeg:https://waldwelten.de/wp-content/uploads/2025/02/Gundermann_Pixabay_Hans.jpg
END:VEVENT
END:VCALENDAR